BEGIN:VCALENDAR
VERSION:2.0
PRODID:-//eventon.com NONSGML v1.0//EN
CALSCALE:GREGORIAN
METHOD:PUBLISH
BEGIN:VEVENT
UID:69e4cf0f940a0
DTSTAMP:20260419T124815Z
DTSTART:20230518
DTEND:20230519
LOCATION:
SUMMARY:Männertag im Kloster
DESCRIPTION:Männertag im Kloster\nhttps://grossberndten.de/events/maennert
 ag-im-kloster
URL:https://grossberndten.de/events/maennertag-im-kloster
END:VEVENT
END:VCALENDAR