BEGIN:VCALENDAR
VERSION:2.0
PRODID:-//eventon.com NONSGML v1.0//EN
CALSCALE:GREGORIAN
METHOD:PUBLISH
BEGIN:VEVENT
UID:69e4cdf109990
DTSTAMP:20260419T124329Z
DTSTART:20230617
DTEND:20230618
LOCATION:
SUMMARY:Hoffest (geschl. Veranstaltung)
DESCRIPTION:Hoffest (geschl. Veranstaltung)\nhttps://grossberndten.de/event
 s/hoffest-geschl-veranstaltung
URL:https://grossberndten.de/events/hoffest-geschl-veranstaltung
END:VEVENT
END:VCALENDAR